BEGIN:VCALENDAR
VERSION:2.0
PRODID:hinto.net
X-PUBLISHED-TTL:P1W
BEGIN:VEVENT
UID:hinto.net-event_show-4877188
DTSTART:20270907T100000
SEQUENCE:0
CREATED:20240907T071546
LAST-MODIFIED:20240907T071546
TRANSP:OPAQUE
DTEND:20270907T170000
LOCATION:Château de Prangins
SUMMARY:Portrait-Galerie
CLASS:PUBLIC
DESCRIPTION:
ORGANIZER:
DTSTAMP:20260424T121225
ATTACH:https://www.hinto.ch/de/events/portrait-galerie-07-09-2027-1000-chateau-de-prangins-prangins-e280777-20.html
END:VEVENT
END:VCALENDAR
