BEGIN:VCALENDAR
VERSION:2.0
PRODID:hinto.net
X-PUBLISHED-TTL:P1W
BEGIN:VEVENT
UID:hinto.net-event_show-6893693
DTSTART:20260422T183000
SEQUENCE:0
CREATED:20260409T055758
LAST-MODIFIED:20260409T055758
TRANSP:OPAQUE

LOCATION:Cinélux
SUMMARY:Première : THE NARRATIVE
CLASS:PUBLIC
DESCRIPTION:
ORGANIZER:
DTSTAMP:20260419T210458
ATTACH:https://www.hinto.ch/de/events/premiere-the-narrative-22-04-2026-1830-cinelux-geneve-e2819686-20.html
END:VEVENT
END:VCALENDAR
