BEGIN:VCALENDAR
VERSION:2.0
PRODID:hinto.net
X-PUBLISHED-TTL:P1W
BEGIN:VEVENT
UID:hinto.net-event_show-6814935
DTSTART:20260428T200000
SEQUENCE:0
CREATED:20260314T035929
LAST-MODIFIED:20260314T035929
TRANSP:OPAQUE

LOCATION:Z7
SUMMARY:Randy Hansen
CLASS:PUBLIC
DESCRIPTION:
ORGANIZER:
DTSTAMP:20260419T234046
ATTACH:https://www.hinto.ch/de/events/randy-hansen-28-04-2026-2000-z7-prattelen-e2753120-20.html
END:VEVENT
END:VCALENDAR
