BEGIN:VCALENDAR
VERSION:2.0
PRODID:hinto.net
X-PUBLISHED-TTL:P1W
BEGIN:VEVENT
UID:hinto.net-event_show-4916503
DTSTART:20270916T140000
SEQUENCE:0
CREATED:20240916T051426
LAST-MODIFIED:20240916T051426
TRANSP:OPAQUE
DTEND:20270916T170000
LOCATION:Schweizer Kindermuseum
SUMMARY:Rakete, Mond und Sterne
CLASS:PUBLIC
DESCRIPTION:
ORGANIZER:
DTSTAMP:20260421T074025
ATTACH:https://www.hinto.ch/de/events/rakete-mond-und-sterne-16-09-2027-1400-schweizer-kindermuseum-baden-e72056-20.html
END:VEVENT
END:VCALENDAR
