BEGIN:VCALENDAR
VERSION:2.0
PRODID:hinto.net
X-PUBLISHED-TTL:P1W
BEGIN:VEVENT
UID:hinto.net-event_show-5255766
DTSTART:20271124T140000
SEQUENCE:0
CREATED:20241124T053739
LAST-MODIFIED:20241124T053739
TRANSP:OPAQUE
DTEND:20271124T170000
LOCATION:Schweizer Kindermuseum
SUMMARY:Rakete, Mond und Sterne
CLASS:PUBLIC
DESCRIPTION:
ORGANIZER:
DTSTAMP:20260421T085308
ATTACH:https://www.hinto.ch/de/events/rakete-mond-und-sterne-24-11-2027-1400-schweizer-kindermuseum-baden-e72056-20.html
END:VEVENT
END:VCALENDAR
