BEGIN:VCALENDAR
VERSION:2.0
PRODID:hinto.net
X-PUBLISHED-TTL:P1W
BEGIN:VEVENT
UID:hinto.net-event_show-4712866
DTSTART:20270826T140000
SEQUENCE:0
CREATED:20240826T170446
LAST-MODIFIED:20240826T170446
TRANSP:OPAQUE
DTEND:20270826T170000
LOCATION:Schweizer Kindermuseum
SUMMARY:Rakete, Mond und Sterne
CLASS:PUBLIC
DESCRIPTION:
ORGANIZER:
DTSTAMP:20260421T061427
ATTACH:https://www.hinto.ch/de/events/rakete-mond-und-sterne-26-08-2027-1400-schweizer-kindermuseum-baden-e72056-20.html
END:VEVENT
END:VCALENDAR
