BEGIN:VCALENDAR
VERSION:2.0
PRODID:hinto.net
X-PUBLISHED-TTL:P1W
BEGIN:VEVENT
UID:hinto.net-event_show-5282230
DTSTART:20271128T100000
SEQUENCE:0
CREATED:20241128T111851
LAST-MODIFIED:20241128T111851
TRANSP:OPAQUE
DTEND:20271128T170000
LOCATION:Schweizer Kindermuseum
SUMMARY:Rakete, Mond und Sterne
CLASS:PUBLIC
DESCRIPTION:
ORGANIZER:
DTSTAMP:20260421T102240
ATTACH:https://www.hinto.ch/de/events/rakete-mond-und-sterne-28-11-2027-1000-schweizer-kindermuseum-baden-e72056-20.html
END:VEVENT
END:VCALENDAR
