BEGIN:VCALENDAR
VERSION:2.0
PRODID:hinto.net
X-PUBLISHED-TTL:P1W
BEGIN:VEVENT
UID:hinto.net-event_show-6852540
DTSTART:20260417T011500
SEQUENCE:0
CREATED:20260326T181835
LAST-MODIFIED:20260326T181835
TRANSP:OPAQUE
DTEND:20260417T013200
LOCATION:
SUMMARY:RTS 1: Couleurs locales
CLASS:PUBLIC
DESCRIPTION:
ORGANIZER:
DTSTAMP:20260419T213550
ATTACH:https://www.hinto.ch/de/events/rts-1-couleurs-locales-17-04-2026-0115-e2784419-20.html
END:VEVENT
END:VCALENDAR
