BEGIN:VCALENDAR
VERSION:2.0
PRODID:hinto.net
X-PUBLISHED-TTL:P1W
BEGIN:VEVENT
UID:hinto.net-event_show-6898976
DTSTART:20260419T123500
SEQUENCE:0
CREATED:20260411T042911
LAST-MODIFIED:20260411T042911
TRANSP:OPAQUE
DTEND:20260419T123935
LOCATION:
SUMMARY:RTS 1: Ensemble
CLASS:PUBLIC
DESCRIPTION:
ORGANIZER:
DTSTAMP:20260420T051346
ATTACH:https://www.hinto.ch/de/events/rts-1-ensemble-19-04-2026-1235-e2824374-20.html
END:VEVENT
END:VCALENDAR
