BEGIN:VCALENDAR
VERSION:2.0
PRODID:hinto.net
X-PUBLISHED-TTL:P1W
BEGIN:VEVENT
UID:hinto.net-event_show-6856336
DTSTART:20260417T180000
SEQUENCE:0
CREATED:20260327T230621
LAST-MODIFIED:20260327T230621
TRANSP:OPAQUE
DTEND:20260417T190000
LOCATION:
SUMMARY:RTS Info: Forum
CLASS:PUBLIC
DESCRIPTION:
ORGANIZER:
DTSTAMP:20260419T162435
ATTACH:https://www.hinto.ch/de/events/rts-info-forum-17-04-2026-1800-e2787515-20.html
END:VEVENT
END:VCALENDAR
