BEGIN:VCALENDAR
VERSION:2.0
PRODID:hinto.net
X-PUBLISHED-TTL:P1W
BEGIN:VEVENT
UID:hinto.net-event_show-6862409
DTSTART:20260417T180000
SEQUENCE:0
CREATED:20260329T144340
LAST-MODIFIED:20260329T144340
TRANSP:OPAQUE
DTEND:20260417T183000
LOCATION:
SUMMARY:SAT 1: Ein Hof zum Verlieben
CLASS:PUBLIC
DESCRIPTION:
ORGANIZER:
DTSTAMP:20260419T234318
ATTACH:https://www.hinto.ch/de/events/sat-1-ein-hof-zum-verlieben-17-04-2026-1800-e2793025-20.html
END:VEVENT
END:VCALENDAR
