BEGIN:VCALENDAR
VERSION:2.0
PRODID:hinto.net
X-PUBLISHED-TTL:P1W
BEGIN:VEVENT
UID:hinto.net-event_show-6856147
DTSTART:20260417T180000
SEQUENCE:0
CREATED:20260327T225955
LAST-MODIFIED:20260327T225955
TRANSP:OPAQUE
DTEND:20260417T180500
LOCATION:
SUMMARY:SRF 1: Tagesschau kompakt
CLASS:PUBLIC
DESCRIPTION:
ORGANIZER:
DTSTAMP:20260419T192713
ATTACH:https://www.hinto.ch/de/events/srf-1-tagesschau-kompakt-17-04-2026-1800-e2787326-20.html
END:VEVENT
END:VCALENDAR
