BEGIN:VCALENDAR
VERSION:2.0
PRODID:hinto.net
X-PUBLISHED-TTL:P1W
BEGIN:VEVENT
UID:hinto.net-event_show-6852494
DTSTART:20260417T002000
SEQUENCE:0
CREATED:20260326T181530
LAST-MODIFIED:20260326T181530
TRANSP:OPAQUE
DTEND:20260417T002500
LOCATION:
SUMMARY:SRF info: Meteo
CLASS:PUBLIC
DESCRIPTION:
ORGANIZER:
DTSTAMP:20260419T190048
ATTACH:https://www.hinto.ch/de/events/srf-info-meteo-17-04-2026-0020-e2784373-20.html
END:VEVENT
END:VCALENDAR
