BEGIN:VCALENDAR
VERSION:2.0
PRODID:hinto.net
X-PUBLISHED-TTL:P1W
BEGIN:VEVENT
UID:hinto.net-event_show-6863681
DTSTART:20260419T192000
SEQUENCE:0
CREATED:20260329T155550
LAST-MODIFIED:20260329T155550
TRANSP:OPAQUE
DTEND:20260419T193000
LOCATION:
SUMMARY:Super RTL: Angelo!
CLASS:PUBLIC
DESCRIPTION:
ORGANIZER:
DTSTAMP:20260420T051939
ATTACH:https://www.hinto.ch/de/events/super-rtl-angelo!-19-04-2026-1920-e2794297-20.html
END:VEVENT
END:VCALENDAR
