BEGIN:VCALENDAR
VERSION:2.0
PRODID:hinto.net
X-PUBLISHED-TTL:P1W
BEGIN:VEVENT
UID:hinto.net-event_show-6810088
DTSTART:20260425T203000
SEQUENCE:0
CREATED:20260313T034812
LAST-MODIFIED:20260313T034812
TRANSP:OPAQUE
DTEND:20260425T235900
LOCATION:Tanzlounge
SUMMARY:Tanznacht40
CLASS:PUBLIC
DESCRIPTION:
ORGANIZER:
DTSTAMP:20260424T170311
ATTACH:https://www.hinto.ch/de/events/tanznacht40-25-04-2026-2030-tanzlounge-bern-e729833-20.html
END:VEVENT
END:VCALENDAR
