BEGIN:VCALENDAR
VERSION:2.0
PRODID:hinto.net
X-PUBLISHED-TTL:P1W
BEGIN:VEVENT
UID:hinto.net-event_show-6863145
DTSTART:20260419T190000
SEQUENCE:0
CREATED:20260419T134826
LAST-MODIFIED:20260419T134826
TRANSP:OPAQUE
DTEND:20260419T192000
LOCATION:
SUMMARY:Tele 1: Nachrichten
CLASS:PUBLIC
DESCRIPTION:
ORGANIZER:
DTSTAMP:20260420T075120
ATTACH:https://www.hinto.ch/de/events/tele-1-nachrichten-19-04-2026-1900-e2793761-20.html
END:VEVENT
END:VCALENDAR
