BEGIN:VCALENDAR
VERSION:2.0
PRODID:hinto.net
X-PUBLISHED-TTL:P1W
BEGIN:VEVENT
UID:hinto.net-event_show-6863196
DTSTART:20260419T120000
SEQUENCE:0
CREATED:20260329T153054
LAST-MODIFIED:20260329T153054
TRANSP:OPAQUE
DTEND:20260419T121500
LOCATION:
SUMMARY:Tele M1: Aktuell
CLASS:PUBLIC
DESCRIPTION:
ORGANIZER:
DTSTAMP:20260419T215641
ATTACH:https://www.hinto.ch/de/events/tele-m1-aktuell-19-04-2026-1200-e2793812-20.html
END:VEVENT
END:VCALENDAR
