BEGIN:VCALENDAR
VERSION:2.0
PRODID:hinto.net
X-PUBLISHED-TTL:P1W
BEGIN:VEVENT
UID:hinto.net-event_show-6863208
DTSTART:20260419T190000
SEQUENCE:0
CREATED:20260419T135047
LAST-MODIFIED:20260419T135047
TRANSP:OPAQUE
DTEND:20260419T191800
LOCATION:
SUMMARY:Tele M1: Aktuell
CLASS:PUBLIC
DESCRIPTION:
ORGANIZER:
DTSTAMP:20260420T095151
ATTACH:https://www.hinto.ch/de/events/tele-m1-aktuell-19-04-2026-1900-e2793824-20.html
END:VEVENT
END:VCALENDAR
