BEGIN:VCALENDAR
VERSION:2.0
PRODID:hinto.net
X-PUBLISHED-TTL:P1W
BEGIN:VEVENT
UID:hinto.net-event_show-6863200
DTSTART:20260419T164500
SEQUENCE:0
CREATED:20260419T135039
LAST-MODIFIED:20260419T135039
TRANSP:OPAQUE
DTEND:20260419T165800
LOCATION:
SUMMARY:Tele M1: GlobeTV
CLASS:PUBLIC
DESCRIPTION:
ORGANIZER:
DTSTAMP:20260419T195934
ATTACH:https://www.hinto.ch/de/events/tele-m1-globetv-19-04-2026-1645-e2793816-20.html
END:VEVENT
END:VCALENDAR
