BEGIN:VCALENDAR
VERSION:2.0
PRODID:hinto.net
X-PUBLISHED-TTL:P1W
BEGIN:VEVENT
UID:hinto.net-event_show-6863602
DTSTART:20260419T191600
SEQUENCE:0
CREATED:20260329T155058
LAST-MODIFIED:20260329T155058
TRANSP:OPAQUE
DTEND:20260419T200000
LOCATION:
SUMMARY:Tele Top: Kmu-date
CLASS:PUBLIC
DESCRIPTION:
ORGANIZER:
DTSTAMP:20260420T010633
ATTACH:https://www.hinto.ch/de/events/tele-top-kmu-date-19-04-2026-1916-e2794218-20.html
END:VEVENT
END:VCALENDAR
