BEGIN:VCALENDAR
VERSION:2.0
PRODID:hinto.net
X-PUBLISHED-TTL:P1W
BEGIN:VEVENT
UID:hinto.net-event_show-4691737
DTSTART:20260515T100000
SEQUENCE:0
CREATED:20240825T111255
LAST-MODIFIED:20240825T111255
TRANSP:OPAQUE
DTEND:20260515T170000
LOCATION:Château de Prangins
SUMMARY:Spaziergang durch die Aufklärung
CLASS:PUBLIC
DESCRIPTION:
ORGANIZER:
DTSTAMP:20260424T124911
ATTACH:https://www.hinto.ch/de/events/spaziergang-durch-die-aufklaerung-15-05-2026-1000-chateau-de-prangins-prangins-e72627-20.html
END:VEVENT
END:VCALENDAR
