BEGIN:VCALENDAR
VERSION:2.0
PRODID:hinto.net
X-PUBLISHED-TTL:P1W
BEGIN:VEVENT
UID:hinto.net-event_show-6862782
DTSTART:20260419T190000
SEQUENCE:0
CREATED:20260329T150759
LAST-MODIFIED:20260329T150759
TRANSP:OPAQUE
DTEND:20260419T191000
LOCATION:
SUMMARY:ZDF: heute
CLASS:PUBLIC
DESCRIPTION:
ORGANIZER:
DTSTAMP:20260420T060825
ATTACH:https://www.hinto.ch/de/events/zdf-heute-19-04-2026-1900-e2793398-20.html
END:VEVENT
END:VCALENDAR
