BEGIN:VCALENDAR
VERSION:2.0
PRODID:hinto.net
X-PUBLISHED-TTL:P1W
BEGIN:VEVENT
UID:hinto.net-event_show-6862775
DTSTART:20260419T152500
SEQUENCE:0
CREATED:20260329T150752
LAST-MODIFIED:20260329T150752
TRANSP:OPAQUE
DTEND:20260419T153000
LOCATION:
SUMMARY:ZDF: heute Xpress
CLASS:PUBLIC
DESCRIPTION:
ORGANIZER:
DTSTAMP:20260420T052033
ATTACH:https://www.hinto.ch/de/events/zdf-heute-xpress-19-04-2026-1525-e2793391-20.html
END:VEVENT
END:VCALENDAR
