BEGIN:VCALENDAR
VERSION:2.0
PRODID:hinto.net
X-PUBLISHED-TTL:P1W
BEGIN:VEVENT
UID:hinto.net-event_show-6863857
DTSTART:20260419T163500
SEQUENCE:0
CREATED:20260329T155949
LAST-MODIFIED:20260329T155949
TRANSP:OPAQUE
DTEND:20260419T172000
LOCATION:
SUMMARY:ZDFneo: Die glorreichen 10
CLASS:PUBLIC
DESCRIPTION:
ORGANIZER:
DTSTAMP:20260419T195355
ATTACH:https://www.hinto.ch/de/events/zdfneo-die-glorreichen-10-19-04-2026-1635-e2794473-20.html
END:VEVENT
END:VCALENDAR
