BEGIN:VCALENDAR
VERSION:2.0
PRODID:hinto.net
X-PUBLISHED-TTL:P1W
BEGIN:VEVENT
UID:hinto.net-event_show-6939287
DTSTART:20260529T193000
SEQUENCE:0
CREATED:20260422T162015
LAST-MODIFIED:20260422T162015
TRANSP:OPAQUE
DTEND:20260529T220000
LOCATION:Rote Fabrik
SUMMARY:Zirkus Chnopf - UFE
CLASS:PUBLIC
DESCRIPTION:
ORGANIZER:
DTSTAMP:20260424T141756
ATTACH:https://www.hinto.ch/de/events/zirkus-chnopf-ufe-29-05-2026-1930-rote-fabrik-zuerich-e2854689-20.html
END:VEVENT
END:VCALENDAR
