BEGIN:VCALENDAR
VERSION:2.0
PRODID:hinto.net
X-PUBLISHED-TTL:P1W
BEGIN:VEVENT
UID:hinto.net-event_show-6929841
DTSTART:20260425T100000
SEQUENCE:0
CREATED:20260420T222205
LAST-MODIFIED:20260420T222205
TRANSP:OPAQUE

LOCATION:Sternensaal Bümpliz
SUMMARY:Berner Schallplatten & CD Börse
CLASS:PUBLIC
DESCRIPTION:
ORGANIZER:
DTSTAMP:20260424T043817
ATTACH:https://www.hinto.ch/de/events/berner-schallplatten-cd-boerse-25-04-2026-1000-sternensaal-buempliz-bern-e2482542-20.html
END:VEVENT
END:VCALENDAR
