BEGIN:VCALENDAR
VERSION:2.0
PRODID:hinto.net
X-PUBLISHED-TTL:P1W
BEGIN:VEVENT
UID:hinto.net-event_show-6924726
DTSTART:20260617T080000
SEQUENCE:0
CREATED:20260419T051730
LAST-MODIFIED:20260419T051730
TRANSP:OPAQUE
DTEND:20260617T140000
LOCATION:
SUMMARY:Basler Stadtmarkt
CLASS:PUBLIC
DESCRIPTION:
ORGANIZER:
DTSTAMP:20260419T142312
ATTACH:https://www.hinto.ch/de/events/basler-stadtmarkt-17-06-2026-0800-basel-e2829358-20.html
END:VEVENT
END:VCALENDAR
