BEGIN:VCALENDAR
VERSION:2.0
PRODID:hinto.net
X-PUBLISHED-TTL:P1W
BEGIN:VEVENT
UID:hinto.net-event_show-6691265
DTSTART:20261122T190000
SEQUENCE:0
CREATED:20260206T053757
LAST-MODIFIED:20260206T053757
TRANSP:OPAQUE
DTEND:20261122T000000
LOCATION:Fauteuil
SUMMARY:Die Distel Berlin - Stadt Land Sockenschuss
CLASS:PUBLIC
DESCRIPTION:
ORGANIZER:
DTSTAMP:20260424T185652
ATTACH:https://www.hinto.ch/de/events/die-distel-berlin-stadt-land-sockenschuss-22-11-2026-1900-fauteuil-basel-e2658552-20.html
END:VEVENT
END:VCALENDAR
