BEGIN:VCALENDAR
VERSION:2.0
PRODID:hinto.net
X-PUBLISHED-TTL:P1W
BEGIN:VEVENT
UID:hinto.net-event_show-6925220
DTSTART:20260616T121500
SEQUENCE:0
CREATED:20260419T052049
LAST-MODIFIED:20260419T052049
TRANSP:OPAQUE
DTEND:20260616T125000
LOCATION:Klybeckquartier
SUMMARY:dimiko: Abschiede und Neubeginne
CLASS:PUBLIC
DESCRIPTION:
ORGANIZER:
DTSTAMP:20260420T215809
ATTACH:https://www.hinto.ch/de/events/dimiko-abschiede-und-neubeginne-16-06-2026-1215-klybeckquartier-basel-e2847347-20.html
END:VEVENT
END:VCALENDAR
