BEGIN:VCALENDAR
VERSION:2.0
PRODID:hinto.net
X-PUBLISHED-TTL:P1W
BEGIN:VEVENT
UID:hinto.net-event_show-6909221
DTSTART:20260514T170000
SEQUENCE:0
CREATED:20260414T032423
LAST-MODIFIED:20260414T032423
TRANSP:OPAQUE
DTEND:20260514T174500
LOCATION:Kunstmuseum Basel | Hauptbau
SUMMARY:Dryck Flader trifft ...
CLASS:PUBLIC
DESCRIPTION:
ORGANIZER:
DTSTAMP:20260421T001301
ATTACH:https://www.hinto.ch/de/events/dryck-flader-trifft-14-05-2026-1700-kunstmuseum-basel-hauptbau-basel-e1543697-20.html
END:VEVENT
END:VCALENDAR
