BEGIN:VCALENDAR
VERSION:2.0
PRODID:hinto.net
X-PUBLISHED-TTL:P1W
BEGIN:VEVENT
UID:hinto.net-event_show-6776803
DTSTART:20260517T140000
SEQUENCE:0
CREATED:20260306T065637
LAST-MODIFIED:20260306T065637
TRANSP:OPAQUE
DTEND:20260517T000000
LOCATION:Parkplatz Spitzwald
SUMMARY:Faszination Greifvogel & Eulen Erlebnis
CLASS:PUBLIC
DESCRIPTION:
ORGANIZER:
DTSTAMP:20260421T041410
ATTACH:https://www.hinto.ch/de/events/faszination-greifvogel-eulen-erlebnis-17-05-2026-1400-parkplatz-spitzwald-allschwil-e2268546-20.html
END:VEVENT
END:VCALENDAR
