BEGIN:VCALENDAR
VERSION:2.0
PRODID:hinto.net
X-PUBLISHED-TTL:P1W
BEGIN:VEVENT
UID:hinto.net-event_show-6941951
DTSTART:20260426T200000
SEQUENCE:0
CREATED:20260423T031930
LAST-MODIFIED:20260423T031930
TRANSP:OPAQUE

LOCATION:Bierhübeli
SUMMARY:FORTUNA EHRENFELD
CLASS:PUBLIC
DESCRIPTION:
ORGANIZER:
DTSTAMP:20260424T144735
ATTACH:https://www.hinto.ch/de/events/fortuna-ehrenfeld-26-04-2026-2000-bierhuebeli-bern-e2746588-20.html
END:VEVENT
END:VCALENDAR
