BEGIN:VCALENDAR
VERSION:2.0
PRODID:hinto.net
X-PUBLISHED-TTL:P1W
BEGIN:VEVENT
UID:hinto.net-event_show-6098685
DTSTART:20260503T143000
SEQUENCE:0
CREATED:20250723T044200
LAST-MODIFIED:20250723T044200
TRANSP:OPAQUE

LOCATION:FigurenTheater St. Gallen
SUMMARY:Frederick
CLASS:PUBLIC
DESCRIPTION:
ORGANIZER:
DTSTAMP:20260420T200017
ATTACH:https://www.hinto.ch/de/events/frederick-03-05-2026-1430-figurentheater-st-gallen-st-gallen-e2148458-20.html
END:VEVENT
END:VCALENDAR
