BEGIN:VCALENDAR
VERSION:2.0
PRODID:hinto.net
X-PUBLISHED-TTL:P1W
BEGIN:VEVENT
UID:hinto.net-event_show-6785542
DTSTART:20270206T191100
SEQUENCE:0
CREATED:20260309T033222
LAST-MODIFIED:20260309T033222
TRANSP:OPAQUE

LOCATION:Hofplatz
SUMMARY:Grosses Wiler Monsterkonzert
CLASS:PUBLIC
DESCRIPTION:
ORGANIZER:
DTSTAMP:20260421T002808
ATTACH:https://www.hinto.ch/de/events/grosses-wiler-monsterkonzert-06-02-2027-1911-hofplatz-wil-e2740050-20.html
END:VEVENT
END:VCALENDAR
