BEGIN:VCALENDAR
VERSION:2.0
PRODID:hinto.net
X-PUBLISHED-TTL:P1W
BEGIN:VEVENT
UID:hinto.net-event_show-6806243
DTSTART:20260424T213000
SEQUENCE:0
CREATED:20260311T050431
LAST-MODIFIED:20260311T050431
TRANSP:OPAQUE
DTEND:20260424T233000
LOCATION:VIDMARHALLEN
SUMMARY:HELLO EARTH! - Bühnen Bern
CLASS:PUBLIC
DESCRIPTION:
ORGANIZER:
DTSTAMP:20260424T045626
ATTACH:https://www.hinto.ch/de/events/hello-earth!-buehnen-bern-24-04-2026-2130-vidmarhallen-liebefeld-e2609482-20.html
END:VEVENT
END:VCALENDAR
