BEGIN:VCALENDAR
VERSION:2.0
PRODID:hinto.net
X-PUBLISHED-TTL:P1W
BEGIN:VEVENT
UID:hinto.net-event_show-6933653
DTSTART:20260510T000000
SEQUENCE:0
CREATED:20260422T052549
LAST-MODIFIED:20260422T052549
TRANSP:OPAQUE
DTEND:20260621T000000
LOCATION:Ausstellungsraum Klingental
SUMMARY:Installation View
CLASS:PUBLIC
DESCRIPTION:
ORGANIZER:
DTSTAMP:20260424T112810
ATTACH:https://www.hinto.ch/de/events/installation-view-10-05-2026-0000-ausstellungsraum-klingental-basel-e2854580-20.html
END:VEVENT
END:VCALENDAR
