BEGIN:VCALENDAR
VERSION:2.0
PRODID:hinto.net
X-PUBLISHED-TTL:P1W
BEGIN:VEVENT
UID:hinto.net-event_show-6830251
DTSTART:20260607T104500
SEQUENCE:0
CREATED:20260319T030808
LAST-MODIFIED:20260319T030808
TRANSP:OPAQUE
DTEND:20260607T121500
LOCATION:Berner Münster
SUMMARY:Kreativer Micro-Retreat mit Regina Dürig
CLASS:PUBLIC
DESCRIPTION:
ORGANIZER:
DTSTAMP:20260424T174400
ATTACH:https://www.hinto.ch/de/events/kreativer-micro-retreat-mit-regina-duerig-07-06-2026-1045-berner-muenster-bern-e2765555-20.html
END:VEVENT
END:VCALENDAR
