BEGIN:VCALENDAR
VERSION:2.0
PRODID:hinto.net
X-PUBLISHED-TTL:P1W
BEGIN:VEVENT
UID:hinto.net-event_show-6930786
DTSTART:20260516T230000
SEQUENCE:0
CREATED:20260421T031253
LAST-MODIFIED:20260421T031253
TRANSP:OPAQUE
DTEND:20260517T040000
LOCATION:DEZENT. (ehemals Garage)
SUMMARY:MAMACITA @DEZENT
CLASS:PUBLIC
DESCRIPTION:
ORGANIZER:
DTSTAMP:20260424T155616
ATTACH:https://www.hinto.ch/de/events/mamacita-@dezent-16-05-2026-2300-dezent-(ehemals-garage)-st-gallen-e2852174-20.html
END:VEVENT
END:VCALENDAR
