BEGIN:VCALENDAR
VERSION:2.0
PRODID:hinto.net
X-PUBLISHED-TTL:P1W
BEGIN:VEVENT
UID:hinto.net-event_show-6836805
DTSTART:20270318T100000
SEQUENCE:0
CREATED:20260321T040730
LAST-MODIFIED:20260321T040730
TRANSP:OPAQUE
DTEND:20270318T110000
LOCATION:Stadtcasino, Musiksaal
SUMMARY:mega.musik
CLASS:PUBLIC
DESCRIPTION:
ORGANIZER:
DTSTAMP:20260420T215743
ATTACH:https://www.hinto.ch/de/events/mega-musik-18-03-2027-1000-stadtcasino-musiksaal-basel-e2771106-20.html
END:VEVENT
END:VCALENDAR
