BEGIN:VCALENDAR
VERSION:2.0
PRODID:hinto.net
X-PUBLISHED-TTL:P1W
BEGIN:VEVENT
UID:hinto.net-event_show-6777064
DTSTART:20260509T200000
SEQUENCE:0
CREATED:20260306T065720
LAST-MODIFIED:20260306T065720
TRANSP:OPAQUE
DTEND:20260509T000000
LOCATION:KulturBistro Solothurn
SUMMARY:Michael von der Heide singt Knef
CLASS:PUBLIC
DESCRIPTION:
ORGANIZER:
DTSTAMP:20260424T055448
ATTACH:https://www.hinto.ch/de/events/michael-von-der-heide-singt-knef-09-05-2026-2000-kulturbistro-solothurn-solothurn-e2732211-20.html
END:VEVENT
END:VCALENDAR
