BEGIN:VCALENDAR
VERSION:2.0
PRODID:hinto.net
X-PUBLISHED-TTL:P1W
BEGIN:VEVENT
UID:hinto.net-event_show-6893814
DTSTART:20260430T121500
SEQUENCE:0
CREATED:20260409T055816
LAST-MODIFIED:20260409T055816
TRANSP:OPAQUE

LOCATION:Théâtre du Passage
SUMMARY:Midi musique #2
CLASS:PUBLIC
DESCRIPTION:
ORGANIZER:
DTSTAMP:20260421T002016
ATTACH:https://www.hinto.ch/de/events/midi-musique-2-30-04-2026-1215-theatre-du-passage-neuchatel-e2819758-20.html
END:VEVENT
END:VCALENDAR
