BEGIN:VCALENDAR
VERSION:2.0
PRODID:hinto.net
X-PUBLISHED-TTL:P1W
BEGIN:VEVENT
UID:hinto.net-event_show-6948299
DTSTART:20261210T200000
SEQUENCE:0
CREATED:20260424T100635
LAST-MODIFIED:20260424T100635
TRANSP:OPAQUE

LOCATION:Dynamo
SUMMARY:Mika Noé im Dynamo
CLASS:PUBLIC
DESCRIPTION:
ORGANIZER:
DTSTAMP:20260425T044838
ATTACH:https://www.hinto.ch/de/events/mika-noe-im-dynamo-10-12-2026-2000-dynamo-zuerich-e2863240-20.html
END:VEVENT
END:VCALENDAR
