BEGIN:VCALENDAR
VERSION:2.0
PRODID:hinto.net
X-PUBLISHED-TTL:P1W
BEGIN:VEVENT
UID:hinto.net-event_show-6907136
DTSTART:20260424T200000
SEQUENCE:0
CREATED:20260413T063832
LAST-MODIFIED:20260413T063832
TRANSP:OPAQUE

LOCATION:Teatro Comico
SUMMARY:Récit d’un voyage vers la rédemption
CLASS:PUBLIC
DESCRIPTION:
ORGANIZER:
DTSTAMP:20260419T232656
ATTACH:https://www.hinto.ch/de/events/recit-drun-voyage-vers-la-redemption-24-04-2026-2000-teatro-comico-sion-e2832005-20.html
END:VEVENT
END:VCALENDAR
