BEGIN:VCALENDAR
VERSION:2.0
PRODID:hinto.net
X-PUBLISHED-TTL:P1W
BEGIN:VEVENT
UID:hinto.net-event_show-6806734
DTSTART:20260425T220000
SEQUENCE:0
CREATED:20260311T050827
LAST-MODIFIED:20260311T050827
TRANSP:OPAQUE

LOCATION:Stadttheater Langenthal
SUMMARY:Schwarzenbach – Le Dolci Vite
CLASS:PUBLIC
DESCRIPTION:
ORGANIZER:
DTSTAMP:20260421T094957
ATTACH:https://www.hinto.ch/de/events/schwarzenbach-n-le-dolci-vite-25-04-2026-2200-stadttheater-langenthal-langenthal-e2746584-20.html
END:VEVENT
END:VCALENDAR
