BEGIN:VCALENDAR
VERSION:2.0
PRODID:hinto.net
X-PUBLISHED-TTL:P1W
BEGIN:VEVENT
UID:hinto.net-event_show-6925672
DTSTART:20260527T160000
SEQUENCE:0
CREATED:20260419T052309
LAST-MODIFIED:20260419T052309
TRANSP:OPAQUE
DTEND:20260527T163000
LOCATION:Bücherladen Amriswil
SUMMARY:Schweizer Vorlese Tag
CLASS:PUBLIC
DESCRIPTION:
ORGANIZER:
DTSTAMP:20260419T232747
ATTACH:https://www.hinto.ch/de/events/schweizer-vorlese-tag-27-05-2026-1600-buecherladen-amriswil-amriswil-e2847630-20.html
END:VEVENT
END:VCALENDAR
