BEGIN:VCALENDAR
VERSION:2.0
PRODID:hinto.net
X-PUBLISHED-TTL:P1W
BEGIN:VEVENT
UID:hinto.net-event_show-6653377
DTSTART:20260429T153000
SEQUENCE:0
CREATED:20260124T034608
LAST-MODIFIED:20260124T034608
TRANSP:OPAQUE

LOCATION:FigurenTheater St. Gallen
SUMMARY:Seitenwechsel
CLASS:PUBLIC
DESCRIPTION:
ORGANIZER:
DTSTAMP:20260424T071905
ATTACH:https://www.hinto.ch/de/events/seitenwechsel-29-04-2026-1530-figurentheater-st-gallen-st-gallen-e2624597-20.html
END:VEVENT
END:VCALENDAR
