BEGIN:VCALENDAR
VERSION:2.0
PRODID:hinto.net
X-PUBLISHED-TTL:P1W
BEGIN:VEVENT
UID:hinto.net-event_show-6827197
DTSTART:20261101T140000
SEQUENCE:0
CREATED:20260318T052927
LAST-MODIFIED:20260318T052927
TRANSP:OPAQUE
DTEND:20261101T154300
LOCATION:Spielzeug Welten Museum Basel
SUMMARY:Teddy-Kino
CLASS:PUBLIC
DESCRIPTION:
ORGANIZER:
DTSTAMP:20260424T092710
ATTACH:https://www.hinto.ch/de/events/teddy-kino-01-11-2026-1400-spielzeug-welten-museum-basel-basel-e2763158-20.html
END:VEVENT
END:VCALENDAR
