BEGIN:VCALENDAR
VERSION:2.0
PRODID:hinto.net
X-PUBLISHED-TTL:P1W
BEGIN:VEVENT
UID:hinto.net-event_show-6827168
DTSTART:20261004T140000
SEQUENCE:0
CREATED:20260318T052748
LAST-MODIFIED:20260318T052748
TRANSP:OPAQUE
DTEND:20261004T151800
LOCATION:Spielzeug Welten Museum Basel
SUMMARY:Teddy-Kino
CLASS:PUBLIC
DESCRIPTION:
ORGANIZER:
DTSTAMP:20260424T033915
ATTACH:https://www.hinto.ch/de/events/teddy-kino-04-10-2026-1400-spielzeug-welten-museum-basel-basel-e2763135-20.html
END:VEVENT
END:VCALENDAR
