BEGIN:VCALENDAR
VERSION:2.0
PRODID:hinto.net
X-PUBLISHED-TTL:P1W
BEGIN:VEVENT
UID:hinto.net-event_show-6827055
DTSTART:20260607T140000
SEQUENCE:0
CREATED:20260318T052548
LAST-MODIFIED:20260318T052548
TRANSP:OPAQUE
DTEND:20260607T152300
LOCATION:Spielzeug Welten Museum Basel
SUMMARY:Teddy-Kino
CLASS:PUBLIC
DESCRIPTION:
ORGANIZER:
DTSTAMP:20260424T135356
ATTACH:https://www.hinto.ch/de/events/teddy-kino-07-06-2026-1400-spielzeug-welten-museum-basel-basel-e2763046-20.html
END:VEVENT
END:VCALENDAR
