BEGIN:VCALENDAR
VERSION:2.0
PRODID:hinto.net
X-PUBLISHED-TTL:P1W
BEGIN:VEVENT
UID:hinto.net-event_show-6904502
DTSTART:20260529T150000
SEQUENCE:0
CREATED:20260412T054637
LAST-MODIFIED:20260412T054637
TRANSP:OPAQUE
DTEND:20260529T210000
LOCATION:Hofplatz
SUMMARY:Wiler Weinstrasse
CLASS:PUBLIC
DESCRIPTION:
ORGANIZER:
DTSTAMP:20260419T213717
ATTACH:https://www.hinto.ch/de/events/wiler-weinstrasse-29-05-2026-1500-hofplatz-wil-e2829506-20.html
END:VEVENT
END:VCALENDAR
